Package: MicrobiotaProcess Version: 1.16.1 Command: /Library/Frameworks/R.framework/Resources/bin/R CMD INSTALL MicrobiotaProcess StartedAt: 2024-10-16 18:02:30 -0400 (Wed, 16 Oct 2024) EndedAt: 2024-10-16 18:03:38 -0400 (Wed, 16 Oct 2024) EllapsedTime: 68.3 seconds RetCode: 0 Status: OK