Package: MicrobiotaProcess Version: 1.16.1 Command: /Library/Frameworks/R.framework/Resources/bin/R CMD check --install=check:MicrobiotaProcess.install-out.txt --library=/Library/Frameworks/R.framework/Resources/library --no-vignettes --timings MicrobiotaProcess_1.16.1.tar.gz StartedAt: 2024-10-18 03:56:31 -0400 (Fri, 18 Oct 2024) EndedAt: 2024-10-18 04:02:43 -0400 (Fri, 18 Oct 2024) EllapsedTime: 371.6 seconds RetCode: 0 Status: OK CheckDir: MicrobiotaProcess.Rcheck Warnings: 0