Package: MicrobiotaProcess Version: 1.16.1 Command: rm -rf MicrobiotaProcess.buildbin-libdir && mkdir MicrobiotaProcess.buildbin-libdir && /Users/biocbuild/BBS/utils/build-universal.sh MicrobiotaProcess_1.16.1.tar.gz /Library/Frameworks/R.framework/Resources/bin/R MicrobiotaProcess.buildbin-libdir StartedAt: 2024-10-18 19:26:25 -0400 (Fri, 18 Oct 2024) EndedAt: 2024-10-18 19:27:50 -0400 (Fri, 18 Oct 2024) EllapsedTime: 85.3 seconds RetCode: 0 Status: OK PackageFile: MicrobiotaProcess_1.16.1.tgz PackageFileSize: 5.729 MiB