Package: MicrobiomeProfiler Version: 1.10.0 Command: rm -rf MicrobiomeProfiler.buildbin-libdir && mkdir MicrobiomeProfiler.buildbin-libdir && F:\biocbuild\bbs-3.19-bioc\R\bin\R.exe CMD INSTALL --build --library=MicrobiomeProfiler.buildbin-libdir MicrobiomeProfiler_1.10.0.tar.gz StartedAt: 2024-06-27 08:30:24 -0400 (Thu, 27 Jun 2024) EndedAt: 2024-06-27 08:31:04 -0400 (Thu, 27 Jun 2024) EllapsedTime: 40.5 seconds RetCode: 0 Status: OK PackageFile: MicrobiomeProfiler_1.10.0.zip PackageFileSize: 947.4 KiB