Package: MicrobiomeProfiler Version: 1.10.0 Command: /home/biocbuild/R/R-beta-2024-04-15_r86425/bin/R CMD check --install=check:MicrobiomeProfiler.install-out.txt --library=/home/biocbuild/R/R-beta-2024-04-15_r86425/site-library --no-vignettes --timings MicrobiomeProfiler_1.10.0.tar.gz StartedAt: 2024-05-09 09:25:02 -0000 (Thu, 09 May 2024) EndedAt: 2024-05-09 09:28:33 -0000 (Thu, 09 May 2024) EllapsedTime: 211.4 seconds RetCode: 0 Status: OK CheckDir: MicrobiomeProfiler.Rcheck Warnings: 0