Package: MicrobiomeProfiler Version: 1.10.0 Command: /Library/Frameworks/R.framework/Resources/bin/R CMD check --install=check:MicrobiomeProfiler.install-out.txt --library=/Library/Frameworks/R.framework/Resources/library --no-vignettes --timings MicrobiomeProfiler_1.10.0.tar.gz StartedAt: 2024-06-10 21:53:02 -0400 (Mon, 10 Jun 2024) EndedAt: 2024-06-10 21:58:06 -0400 (Mon, 10 Jun 2024) EllapsedTime: 303.3 seconds RetCode: 0 Status: OK CheckDir: MicrobiomeProfiler.Rcheck Warnings: 0