Package: MicrobiomeProfiler Version: 1.10.0 Command: rm -rf MicrobiomeProfiler.buildbin-libdir && mkdir MicrobiomeProfiler.buildbin-libdir && /Users/biocbuild/BBS/utils/build-universal.sh MicrobiomeProfiler_1.10.0.tar.gz /Library/Frameworks/R.framework/Resources/bin/R MicrobiomeProfiler.buildbin-libdir StartedAt: 2024-06-11 12:03:12 -0400 (Tue, 11 Jun 2024) EndedAt: 2024-06-11 12:04:01 -0400 (Tue, 11 Jun 2024) EllapsedTime: 48.7 seconds RetCode: 0 Status: OK PackageFile: MicrobiomeProfiler_1.10.0.tgz PackageFileSize: 1008 KiB