Package: MicrobiomeProfiler Version: 1.10.0 Command: /Library/Frameworks/R.framework/Resources/bin/R CMD check --install=check:MicrobiomeProfiler.install-out.txt --library=/Library/Frameworks/R.framework/Resources/library --no-vignettes --timings MicrobiomeProfiler_1.10.0.tar.gz StartedAt: 2024-10-18 03:56:27 -0400 (Fri, 18 Oct 2024) EndedAt: 2024-10-18 03:59:38 -0400 (Fri, 18 Oct 2024) EllapsedTime: 190.8 seconds RetCode: 0 Status: OK CheckDir: MicrobiomeProfiler.Rcheck Warnings: 0