Package: MicrobiomeProfiler Version: 1.10.0 Command: rm -rf MicrobiomeProfiler.buildbin-libdir && mkdir MicrobiomeProfiler.buildbin-libdir && /Users/biocbuild/BBS/utils/build-universal.sh MicrobiomeProfiler_1.10.0.tar.gz /Library/Frameworks/R.framework/Resources/bin/R MicrobiomeProfiler.buildbin-libdir StartedAt: 2024-10-18 19:26:15 -0400 (Fri, 18 Oct 2024) EndedAt: 2024-10-18 19:26:50 -0400 (Fri, 18 Oct 2024) EllapsedTime: 35.3 seconds RetCode: 0 Status: OK PackageFile: MicrobiomeProfiler_1.10.0.tgz PackageFileSize: 1007 KiB