Package: MiRaGE Version: 1.46.0 Command: /Library/Frameworks/R.framework/Resources/bin/R CMD INSTALL MiRaGE StartedAt: 2024-10-16 16:14:38 -0400 (Wed, 16 Oct 2024) EndedAt: 2024-10-16 16:14:54 -0400 (Wed, 16 Oct 2024) EllapsedTime: 15.1 seconds RetCode: 0 Status: OK