Package: MiRaGE Version: 1.46.0 Command: /Library/Frameworks/R.framework/Resources/bin/R CMD check --install=check:MiRaGE.install-out.txt --library=/Library/Frameworks/R.framework/Resources/library --no-vignettes --timings MiRaGE_1.46.0.tar.gz StartedAt: 2024-10-18 04:12:42 -0400 (Fri, 18 Oct 2024) EndedAt: 2024-10-18 04:14:41 -0400 (Fri, 18 Oct 2024) EllapsedTime: 118.8 seconds RetCode: 0 Status: WARNINGS CheckDir: MiRaGE.Rcheck Warnings: 1