Package: MiRaGE Version: 1.46.0 Maintainer: Y-h. Taguchi MaintainerEmail: tag at granular.com git_url: https://git.bioconductor.org/packages/MiRaGE git_branch: RELEASE_3_19 git_last_commit: 6238dff git_last_commit_date: 2024-04-30 10:27:51 -0400 (Tue, 30 Apr 2024)