Package: MiPP Version: 1.76.0 Command: E:\biocbuild\bbs-3.19-bioc\R\bin\R.exe CMD INSTALL MiPP StartedAt: 2024-10-16 16:02:00 -0400 (Wed, 16 Oct 2024) EndedAt: 2024-10-16 16:02:14 -0400 (Wed, 16 Oct 2024) EllapsedTime: 13.8 seconds RetCode: 0 Status: OK