Package: MiPP Version: 1.76.0 Command: rm -rf MiPP.buildbin-libdir && mkdir MiPP.buildbin-libdir && E:\biocbuild\bbs-3.19-bioc\R\bin\R.exe CMD INSTALL --build --library=MiPP.buildbin-libdir MiPP_1.76.0.tar.gz StartedAt: 2024-10-17 08:08:42 -0400 (Thu, 17 Oct 2024) EndedAt: 2024-10-17 08:08:51 -0400 (Thu, 17 Oct 2024) EllapsedTime: 9.2 seconds RetCode: 0 Status: OK PackageFile: MiPP_1.76.0.zip PackageFileSize: 380.3 KiB