Package: MiPP Version: 1.76.0 Command: chmod a+r MiPP -R && F:\biocbuild\bbs-3.19-bioc\R\bin\R.exe CMD build --keep-empty-dirs --no-resave-data MiPP StartedAt: 2024-06-26 20:05:02 -0400 (Wed, 26 Jun 2024) EndedAt: 2024-06-26 20:05:16 -0400 (Wed, 26 Jun 2024) EllapsedTime: 13.4 seconds RetCode: 0 Status: OK PackageFile: MiPP_1.76.0.tar.gz PackageFileSize: 318.7 KiB