Package: MiPP Version: 1.76.0 Command: /home/biocbuild/R/R-beta-2024-04-15_r86425/bin/R CMD check --install=check:MiPP.install-out.txt --library=/home/biocbuild/R/R-beta-2024-04-15_r86425/site-library --no-vignettes --timings MiPP_1.76.0.tar.gz StartedAt: 2024-05-09 09:27:53 -0000 (Thu, 09 May 2024) EndedAt: 2024-05-09 09:29:31 -0000 (Thu, 09 May 2024) EllapsedTime: 98.1 seconds RetCode: 0 Status: OK CheckDir: MiPP.Rcheck Warnings: 0