Package: MiPP Version: 1.76.0 Command: /home/biocbuild/R/R-beta-2024-04-15_r86425/bin/R CMD build --keep-empty-dirs --no-resave-data MiPP StartedAt: 2024-05-09 01:40:56 -0000 (Thu, 09 May 2024) EndedAt: 2024-05-09 01:41:03 -0000 (Thu, 09 May 2024) EllapsedTime: 7.0 seconds RetCode: 0 Status: OK PackageFile: MiPP_1.76.0.tar.gz PackageFileSize: 399.1 KiB