Package: MiPP Version: 1.76.0 Command: rm -rf MiPP.buildbin-libdir && mkdir MiPP.buildbin-libdir && /Users/biocbuild/BBS/utils/build-universal.sh MiPP_1.76.0.tar.gz /Library/Frameworks/R.framework/Resources/bin/R MiPP.buildbin-libdir StartedAt: 2024-06-11 12:04:21 -0400 (Tue, 11 Jun 2024) EndedAt: 2024-06-11 12:04:30 -0400 (Tue, 11 Jun 2024) EllapsedTime: 9.9 seconds RetCode: 0 Status: OK PackageFile: MiPP_1.76.0.tgz PackageFileSize: 467.2 KiB