Package: MiPP Version: 1.76.0 Command: /Library/Frameworks/R.framework/Resources/bin/R CMD check --install=check:MiPP.install-out.txt --library=/Library/Frameworks/R.framework/Resources/library --no-vignettes --timings MiPP_1.76.0.tar.gz StartedAt: 2024-10-18 04:11:57 -0400 (Fri, 18 Oct 2024) EndedAt: 2024-10-18 04:13:17 -0400 (Fri, 18 Oct 2024) EllapsedTime: 80.8 seconds RetCode: 0 Status: OK CheckDir: MiPP.Rcheck Warnings: 0