Package: MiPP Version: 1.76.0 Command: /Library/Frameworks/R.framework/Resources/bin/R CMD build --keep-empty-dirs --no-resave-data MiPP StartedAt: 2024-10-17 04:29:36 -0400 (Thu, 17 Oct 2024) EndedAt: 2024-10-17 04:29:49 -0400 (Thu, 17 Oct 2024) EllapsedTime: 12.6 seconds RetCode: 0 Status: OK PackageFile: MiPP_1.76.0.tar.gz PackageFileSize: 410.1 KiB