Package: MiPP Version: 1.76.0 Command: rm -rf MiPP.buildbin-libdir && mkdir MiPP.buildbin-libdir && /Users/biocbuild/BBS/utils/build-universal.sh MiPP_1.76.0.tar.gz /Library/Frameworks/R.framework/Resources/bin/R MiPP.buildbin-libdir StartedAt: 2024-10-18 19:27:51 -0400 (Fri, 18 Oct 2024) EndedAt: 2024-10-18 19:27:57 -0400 (Fri, 18 Oct 2024) EllapsedTime: 6.9 seconds RetCode: 0 Status: OK PackageFile: MiPP_1.76.0.tgz PackageFileSize: 467.9 KiB