Package: MiChip Version: 1.58.0 Command: E:\biocbuild\bbs-3.19-bioc\R\bin\R.exe CMD INSTALL MiChip StartedAt: 2024-10-16 16:01:51 -0400 (Wed, 16 Oct 2024) EndedAt: 2024-10-16 16:02:01 -0400 (Wed, 16 Oct 2024) EllapsedTime: 10.3 seconds RetCode: 0 Status: OK