Package: MiChip Version: 1.58.0 Command: chmod a+r MiChip -R && E:\biocbuild\bbs-3.19-bioc\R\bin\R.exe CMD build --keep-empty-dirs --no-resave-data MiChip StartedAt: 2024-10-16 20:17:09 -0400 (Wed, 16 Oct 2024) EndedAt: 2024-10-16 20:17:36 -0400 (Wed, 16 Oct 2024) EllapsedTime: 26.5 seconds RetCode: 0 Status: OK PackageFile: MiChip_1.58.0.tar.gz PackageFileSize: 539.8 KiB