Package: MiChip Version: 1.58.0 Command: chmod a+r MiChip -R && F:\biocbuild\bbs-3.19-bioc\R\bin\R.exe CMD build --keep-empty-dirs --no-resave-data MiChip StartedAt: 2024-06-26 20:02:35 -0400 (Wed, 26 Jun 2024) EndedAt: 2024-06-26 20:02:55 -0400 (Wed, 26 Jun 2024) EllapsedTime: 19.7 seconds RetCode: 0 Status: OK PackageFile: MiChip_1.58.0.tar.gz PackageFileSize: 539.4 KiB