Package: MiChip Version: 1.58.0 Command: /Library/Frameworks/R.framework/Resources/bin/R CMD check --install=check:MiChip.install-out.txt --library=/Library/Frameworks/R.framework/Resources/library --no-vignettes --timings MiChip_1.58.0.tar.gz StartedAt: 2024-10-17 08:26:43 -0400 (Thu, 17 Oct 2024) EndedAt: 2024-10-17 08:27:56 -0400 (Thu, 17 Oct 2024) EllapsedTime: 73.0 seconds RetCode: 0 Status: OK CheckDir: MiChip.Rcheck Warnings: 0