Package: MiChip Version: 1.58.0 Command: /Library/Frameworks/R.framework/Resources/bin/R CMD build --keep-empty-dirs --no-resave-data MiChip StartedAt: 2024-10-16 20:52:22 -0400 (Wed, 16 Oct 2024) EndedAt: 2024-10-16 20:53:02 -0400 (Wed, 16 Oct 2024) EllapsedTime: 40.1 seconds RetCode: 0 Status: OK PackageFile: MiChip_1.58.0.tar.gz PackageFileSize: 669.7 KiB