Package: MiChip Version: 1.58.0 Command: rm -rf MiChip.buildbin-libdir && mkdir MiChip.buildbin-libdir && /Users/biocbuild/BBS/utils/build-universal.sh MiChip_1.58.0.tar.gz /Library/Frameworks/R.framework/Resources/bin/R MiChip.buildbin-libdir StartedAt: 2024-10-17 16:35:25 -0400 (Thu, 17 Oct 2024) EndedAt: 2024-10-17 16:35:35 -0400 (Thu, 17 Oct 2024) EllapsedTime: 9.5 seconds RetCode: 0 Status: OK PackageFile: MiChip_1.58.0.tgz PackageFileSize: 718.9 KiB