Package: MiChip Version: 1.58.0 Command: /Library/Frameworks/R.framework/Resources/bin/R CMD check --install=check:MiChip.install-out.txt --library=/Library/Frameworks/R.framework/Resources/library --no-vignettes --timings MiChip_1.58.0.tar.gz StartedAt: 2024-06-09 21:29:48 -0400 (Sun, 09 Jun 2024) EndedAt: 2024-06-09 21:30:24 -0400 (Sun, 09 Jun 2024) EllapsedTime: 36.2 seconds RetCode: 0 Status: OK CheckDir: MiChip.Rcheck Warnings: 0