Package: MiChip Version: 1.58.0 Command: rm -rf MiChip.buildbin-libdir && mkdir MiChip.buildbin-libdir && /Users/biocbuild/BBS/utils/build-universal.sh MiChip_1.58.0.tar.gz /Library/Frameworks/R.framework/Resources/bin/R MiChip.buildbin-libdir StartedAt: 2024-06-10 00:26:48 -0400 (Mon, 10 Jun 2024) EndedAt: 2024-06-10 00:26:55 -0400 (Mon, 10 Jun 2024) EllapsedTime: 6.7 seconds RetCode: 0 Status: OK PackageFile: MiChip_1.58.0.tgz PackageFileSize: 717.8 KiB