Package: MiChip Version: 1.58.0 Command: /home/biocbuild/R/R-beta-2024-04-15_r86425/bin/R CMD build --keep-empty-dirs --no-resave-data MiChip StartedAt: 2024-05-09 01:37:28 -0000 (Thu, 09 May 2024) EndedAt: 2024-05-09 01:37:38 -0000 (Thu, 09 May 2024) EllapsedTime: 10.0 seconds RetCode: 0 Status: OK PackageFile: MiChip_1.58.0.tar.gz PackageFileSize: 642.2 KiB