Package: MiChip Version: 1.58.0 Command: /Library/Frameworks/R.framework/Resources/bin/R CMD check --install=check:MiChip.install-out.txt --library=/Library/Frameworks/R.framework/Resources/library --no-vignettes --timings MiChip_1.58.0.tar.gz StartedAt: 2024-10-18 03:50:05 -0400 (Fri, 18 Oct 2024) EndedAt: 2024-10-18 03:50:44 -0400 (Fri, 18 Oct 2024) EllapsedTime: 39.8 seconds RetCode: 0 Status: OK CheckDir: MiChip.Rcheck Warnings: 0