Package: Mfuzz Version: 2.64.0 Command: chmod a+r Mfuzz -R && F:\biocbuild\bbs-3.19-bioc\R\bin\R.exe CMD build --keep-empty-dirs --no-resave-data Mfuzz StartedAt: 2024-06-26 20:01:46 -0400 (Wed, 26 Jun 2024) EndedAt: 2024-06-26 20:02:08 -0400 (Wed, 26 Jun 2024) EllapsedTime: 21.7 seconds RetCode: 0 Status: OK PackageFile: Mfuzz_2.64.0.tar.gz PackageFileSize: 669.4 KiB