Package: Mfuzz Version: 2.64.0 Command: rm -rf Mfuzz.buildbin-libdir && mkdir Mfuzz.buildbin-libdir && F:\biocbuild\bbs-3.19-bioc\R\bin\R.exe CMD INSTALL --build --library=Mfuzz.buildbin-libdir Mfuzz_2.64.0.tar.gz StartedAt: 2024-06-27 08:29:50 -0400 (Thu, 27 Jun 2024) EndedAt: 2024-06-27 08:30:02 -0400 (Thu, 27 Jun 2024) EllapsedTime: 12.3 seconds RetCode: 0 Status: OK PackageFile: Mfuzz_2.64.0.zip PackageFileSize: 698.5 KiB