Package: Mfuzz Version: 2.64.0 Command: /home/biocbuild/bbs-3.19-bioc/R/bin/R CMD build --keep-empty-dirs --no-resave-data Mfuzz StartedAt: 2024-10-16 19:26:52 -0400 (Wed, 16 Oct 2024) EndedAt: 2024-10-16 19:27:02 -0400 (Wed, 16 Oct 2024) EllapsedTime: 10.0 seconds RetCode: 0 Status: OK PackageFile: Mfuzz_2.64.0.tar.gz PackageFileSize: 666.8 KiB