Package: Mfuzz Version: 2.64.0 Command: /Library/Frameworks/R.framework/Resources/bin/R CMD check --install=check:Mfuzz.install-out.txt --library=/Library/Frameworks/R.framework/Resources/library --no-vignettes --timings Mfuzz_2.64.0.tar.gz StartedAt: 2024-06-09 21:28:45 -0400 (Sun, 09 Jun 2024) EndedAt: 2024-06-09 21:29:38 -0400 (Sun, 09 Jun 2024) EllapsedTime: 53.2 seconds RetCode: 0 Status: WARNINGS CheckDir: Mfuzz.Rcheck Warnings: 2