Package: Mfuzz Version: 2.64.0 Command: /Library/Frameworks/R.framework/Resources/bin/R CMD build --keep-empty-dirs --no-resave-data Mfuzz StartedAt: 2024-06-09 17:14:52 -0400 (Sun, 09 Jun 2024) EndedAt: 2024-06-09 17:15:09 -0400 (Sun, 09 Jun 2024) EllapsedTime: 17.1 seconds RetCode: 0 Status: OK PackageFile: Mfuzz_2.64.0.tar.gz PackageFileSize: 818.9 KiB