Package: Mfuzz Version: 2.64.0 Command: rm -rf Mfuzz.buildbin-libdir && mkdir Mfuzz.buildbin-libdir && /Users/biocbuild/BBS/utils/build-universal.sh Mfuzz_2.64.0.tar.gz /Library/Frameworks/R.framework/Resources/bin/R Mfuzz.buildbin-libdir StartedAt: 2024-06-10 00:26:37 -0400 (Mon, 10 Jun 2024) EndedAt: 2024-06-10 00:26:48 -0400 (Mon, 10 Jun 2024) EllapsedTime: 11.3 seconds RetCode: 0 Status: OK PackageFile: Mfuzz_2.64.0.tgz PackageFileSize: 852.7 KiB