Package: Mfuzz Version: 2.64.0 Command: /home/biocbuild/R/R-beta-2024-04-15_r86425/bin/R CMD build --keep-empty-dirs --no-resave-data Mfuzz StartedAt: 2024-05-09 01:36:39 -0000 (Thu, 09 May 2024) EndedAt: 2024-05-09 01:36:51 -0000 (Thu, 09 May 2024) EllapsedTime: 12.0 seconds RetCode: 0 Status: OK PackageFile: Mfuzz_2.64.0.tar.gz PackageFileSize: 810 KiB