Package: Mfuzz Version: 2.64.0 Command: /Library/Frameworks/R.framework/Resources/bin/R CMD build --keep-empty-dirs --no-resave-data Mfuzz StartedAt: 2024-06-10 00:31:05 -0400 (Mon, 10 Jun 2024) EndedAt: 2024-06-10 00:33:06 -0400 (Mon, 10 Jun 2024) EllapsedTime: 120.6 seconds RetCode: 0 Status: OK PackageFile: Mfuzz_2.64.0.tar.gz PackageFileSize: 819.3 KiB