Package: MethylSeekR Version: 1.44.0 Command: chmod a+r MethylSeekR -R && E:\biocbuild\bbs-3.19-bioc\R\bin\R.exe CMD build --keep-empty-dirs --no-resave-data MethylSeekR StartedAt: 2024-10-16 20:15:26 -0400 (Wed, 16 Oct 2024) EndedAt: 2024-10-16 20:17:18 -0400 (Wed, 16 Oct 2024) EllapsedTime: 112.6 seconds RetCode: 0 Status: OK PackageFile: MethylSeekR_1.44.0.tar.gz PackageFileSize: 1.595 MiB