Package: MethylSeekR Version: 1.44.0 Command: /home/biocbuild/bbs-3.19-bioc/R/bin/R CMD build --keep-empty-dirs --no-resave-data MethylSeekR StartedAt: 2024-10-16 19:25:44 -0400 (Wed, 16 Oct 2024) EndedAt: 2024-10-16 19:27:23 -0400 (Wed, 16 Oct 2024) EllapsedTime: 99.2 seconds RetCode: 0 Status: OK PackageFile: MethylSeekR_1.44.0.tar.gz PackageFileSize: 1.594 MiB