Package: MethylSeekR Version: 1.44.0 Command: /Library/Frameworks/R.framework/Resources/bin/R CMD build --keep-empty-dirs --no-resave-data MethylSeekR StartedAt: 2024-10-17 04:17:35 -0400 (Thu, 17 Oct 2024) EndedAt: 2024-10-17 04:19:42 -0400 (Thu, 17 Oct 2024) EllapsedTime: 126.4 seconds RetCode: 0 Status: OK PackageFile: MethylSeekR_1.44.0.tar.gz PackageFileSize: 1.594 MiB