Package: MethylMix Version: 2.34.0 Maintainer: Olivier Gevaert MaintainerEmail: olivier.gevaert at gmail.com git_url: https://git.bioconductor.org/packages/MethylMix git_branch: RELEASE_3_19 git_last_commit: 376b567 git_last_commit_date: 2024-04-30 10:38:29 -0400 (Tue, 30 Apr 2024)