Package: MethylAid Version: 1.38.0 Command: chmod a+r MethylAid -R && E:\biocbuild\bbs-3.19-bioc\R\bin\R.exe CMD build --keep-empty-dirs --no-resave-data MethylAid StartedAt: 2024-10-16 20:13:01 -0400 (Wed, 16 Oct 2024) EndedAt: 2024-10-16 20:20:58 -0400 (Wed, 16 Oct 2024) EllapsedTime: 477.1 seconds RetCode: 0 Status: OK PackageFile: MethylAid_1.38.0.tar.gz PackageFileSize: 3.015 MiB