Package: MethylAid Version: 1.38.0 Command: rm -rf MethylAid.buildbin-libdir && mkdir MethylAid.buildbin-libdir && E:\biocbuild\bbs-3.19-bioc\R\bin\R.exe CMD INSTALL --build --library=MethylAid.buildbin-libdir MethylAid_1.38.0.tar.gz StartedAt: 2024-10-17 08:07:04 -0400 (Thu, 17 Oct 2024) EndedAt: 2024-10-17 08:08:05 -0400 (Thu, 17 Oct 2024) EllapsedTime: 60.4 seconds RetCode: 0 Status: OK PackageFile: MethylAid_1.38.0.zip PackageFileSize: 3.278 MiB