Package: MethylAid Version: 1.38.0 Command: /Library/Frameworks/R.framework/Resources/bin/R CMD check --install=check:MethylAid.install-out.txt --library=/Library/Frameworks/R.framework/Resources/library --no-vignettes --timings MethylAid_1.38.0.tar.gz StartedAt: 2024-10-17 08:15:02 -0400 (Thu, 17 Oct 2024) EndedAt: 2024-10-17 08:52:38 -0400 (Thu, 17 Oct 2024) EllapsedTime: 2256.1 seconds RetCode: 0 Status: OK CheckDir: MethylAid.Rcheck Warnings: 0