Package: MethylAid Version: 1.38.0 Command: /Library/Frameworks/R.framework/Resources/bin/R CMD check --install=check:MethylAid.install-out.txt --library=/Library/Frameworks/R.framework/Resources/library --no-vignettes --timings MethylAid_1.38.0.tar.gz StartedAt: 2024-10-18 03:27:59 -0400 (Fri, 18 Oct 2024) EndedAt: 2024-10-18 03:40:00 -0400 (Fri, 18 Oct 2024) EllapsedTime: 721.0 seconds RetCode: 0 Status: OK CheckDir: MethylAid.Rcheck Warnings: 0