Package: MethylAid Version: 1.38.0 Command: /Library/Frameworks/R.framework/Resources/bin/R CMD build --keep-empty-dirs --no-resave-data MethylAid StartedAt: 2024-10-17 04:08:48 -0400 (Thu, 17 Oct 2024) EndedAt: 2024-10-17 04:14:31 -0400 (Thu, 17 Oct 2024) EllapsedTime: 343.7 seconds RetCode: 0 Status: OK PackageFile: MethylAid_1.38.0.tar.gz PackageFileSize: 3.013 MiB