Package: MethylAid Version: 1.38.0 Maintainer: L.J.Sinke MaintainerEmail: L.J.Sinke at lumc.nl git_url: https://git.bioconductor.org/packages/MethylAid git_branch: RELEASE_3_19 git_last_commit: 8e8e06c git_last_commit_date: 2024-04-30 10:36:48 -0400 (Tue, 30 Apr 2024)