Package: MethTargetedNGS Version: 1.36.0 Command: rm -rf MethTargetedNGS.buildbin-libdir && mkdir MethTargetedNGS.buildbin-libdir && E:\biocbuild\bbs-3.19-bioc\R\bin\R.exe CMD INSTALL --build --library=MethTargetedNGS.buildbin-libdir MethTargetedNGS_1.36.0.tar.gz StartedAt: 2024-10-17 08:07:03 -0400 (Thu, 17 Oct 2024) EndedAt: 2024-10-17 08:07:19 -0400 (Thu, 17 Oct 2024) EllapsedTime: 16.8 seconds RetCode: 0 Status: OK PackageFile: MethTargetedNGS_1.36.0.zip PackageFileSize: 175.1 KiB